BEGIN:VCALENDAR
VERSION:2.0
PRODID:-//Plone.org//NONSGML plone.app.event//EN
X-WR-TIMEZONE:Europe/Madrid
BEGIN:VEVENT
SUMMARY:Webinar: Influential Innovation
DTSTART;TZID=Europe/Madrid:20181106T140000
DTEND;TZID=Europe/Madrid:20181106T150000
DTSTAMP:20260420T002215Z
UID:18ce711068564e8fb9e86eda1bf21d4a@eseiaat.upc.edu
CREATED:20181022T114127Z
LAST-MODIFIED:20181022T115533Z
URL:https://eseiaat.upc.edu/es/eventos/webinar-influential-innovation
END:VEVENT
BEGIN:VTIMEZONE
TZID:Europe/Madrid
X-LIC-LOCATION:Europe/Madrid
BEGIN:STANDARD
DTSTART:20181028T020000
TZNAME:CET
TZOFFSETFROM:+0200
TZOFFSETTO:+0100
END:STANDARD
END:VTIMEZONE
END:VCALENDAR
