BEGIN:VCALENDAR
VERSION:2.0
PRODID:-//Plone.org//NONSGML plone.app.event//EN
X-WR-TIMEZONE:Europe/Madrid
BEGIN:VEVENT
SUMMARY:Rolls-Royce Careers | ESEIAAT UPC Terrassa
DTSTART;TZID=Europe/Madrid:20180927T093000
DTEND;TZID=Europe/Madrid:20180927T183000
DTSTAMP:20260419T205354Z
UID:ffc1c7d215774e79a4fc0224a94161c0@eseiaat.upc.edu
CREATED:20180920T075601Z
LAST-MODIFIED:20180920T083930Z
URL:https://eseiaat.upc.edu/es/eventos/rolls-royce-careers
END:VEVENT
BEGIN:VTIMEZONE
TZID:Europe/Madrid
X-LIC-LOCATION:Europe/Madrid
BEGIN:DAYLIGHT
DTSTART:20180325T030000
TZNAME:CEST
TZOFFSETFROM:+0100
TZOFFSETTO:+0200
END:DAYLIGHT
END:VTIMEZONE
END:VCALENDAR
