BEGIN:VCALENDAR
VERSION:2.0
PRODID:-//Plone.org//NONSGML plone.app.event//EN
X-WR-TIMEZONE:Europe/Madrid
BEGIN:VEVENT
SUMMARY:Webinar UPC Alumni: LinkedIn\, l'eina imprescindible per trobar fe
 ina
DTSTART;TZID=Europe/Madrid:20200429T120000
DTEND;TZID=Europe/Madrid:20200429T133000
DTSTAMP:20260420T145932Z
UID:802fe652938047f68534afcda8d87c98@eseiaat.upc.edu
RRULE:FREQ=WEEKLY;UNTIL=20200525T000000;BYDAY=WE
RDATE;TZID=Europe/Madrid:20200513T000000
EXDATE;TZID=Europe/Madrid:20200506T000000,20200520T000000
CREATED:20200424T052214Z
LAST-MODIFIED:20200514T063343Z
LOCATION:Online
URL:https://eseiaat.upc.edu/ca/esdeveniments/webinar-upc-alumni-linkedin
END:VEVENT
BEGIN:VTIMEZONE
TZID:Europe/Madrid
X-LIC-LOCATION:Europe/Madrid
BEGIN:DAYLIGHT
DTSTART:20200329T030000
TZNAME:CEST
TZOFFSETFROM:+0100
TZOFFSETTO:+0200
END:DAYLIGHT
END:VTIMEZONE
END:VCALENDAR
