BEGIN:VCALENDAR
VERSION:2.0
PRODID:-//Plone.org//NONSGML plone.app.event//EN
X-WR-TIMEZONE:Europe/Madrid
BEGIN:VEVENT
SUMMARY:WEBINAR - LinkedIn: Optimitza el teu networking
DTSTART;TZID=Europe/Madrid:20200714T100000
DTEND;TZID=Europe/Madrid:20200714T120000
DTSTAMP:20260420T085239Z
UID:200a6ca3ed42449da254299fa200963c@eseiaat.upc.edu
CREATED:20200708T071929Z
LAST-MODIFIED:20200708T071936Z
LOCATION:Webinar
URL:https://eseiaat.upc.edu/ca/esdeveniments/webinar-linkedin-optimitza-el
 -teu-networking-1
END:VEVENT
BEGIN:VTIMEZONE
TZID:Europe/Madrid
X-LIC-LOCATION:Europe/Madrid
BEGIN:DAYLIGHT
DTSTART:20200329T030000
TZNAME:CEST
TZOFFSETFROM:+0100
TZOFFSETTO:+0200
END:DAYLIGHT
END:VTIMEZONE
END:VCALENDAR
