BEGIN:VCALENDAR
VERSION:2.0
PRODID:-//Plone.org//NONSGML plone.app.event//EN
X-WR-TIMEZONE:Europe/Madrid
BEGIN:VEVENT
SUMMARY:Sessió Informativa de les Pràctiques externes en empreses
DTSTART;TZID=Europe/Madrid:20200212T120000
DTEND;TZID=Europe/Madrid:20200212T130000
DTSTAMP:20260420T131733Z
UID:7cff4453bba04051b94923eb7b0b0982@eseiaat.upc.edu
CREATED:20200120T084906Z
LAST-MODIFIED:20200213T073126Z
LOCATION:Sala de conferències TR1
URL:https://eseiaat.upc.edu/ca/esdeveniments/sessio-informativa-practiques
 -externes
END:VEVENT
BEGIN:VTIMEZONE
TZID:Europe/Madrid
X-LIC-LOCATION:Europe/Madrid
BEGIN:STANDARD
DTSTART:20191027T020000
TZNAME:CET
TZOFFSETFROM:+0200
TZOFFSETTO:+0100
END:STANDARD
END:VTIMEZONE
END:VCALENDAR
