BEGIN:VCALENDAR
VERSION:2.0
PRODID:-//Plone.org//NONSGML plone.app.event//EN
X-WR-TIMEZONE:Europe/Madrid
BEGIN:VEVENT
SUMMARY:Mindfulness on-line
DTSTART;TZID=Europe/Madrid:20200326T180000
DTEND;TZID=Europe/Madrid:20200329T235900
DTSTAMP:20260420T101925Z
UID:a1cedd48c32f4d03b42fd39584453717@eseiaat.upc.edu
RRULE:FREQ=DAILY;UNTIL=20200329T000000
CATEGORIES:COVID-19,inclusió
CREATED:20200326T074918Z
DESCRIPTION:En aquests moments de confinament és bo disminuir l'estrès i
  augmentar el nostre equilibri. Per això\, us proposem sessions de Mindfu
 lness on-line\, adreçades a tota la comunicat UPC
LAST-MODIFIED:20200326T080251Z
LOCATION:Online
URL:https://eseiaat.upc.edu/ca/esdeveniments/mindfulness-on-line
END:VEVENT
BEGIN:VTIMEZONE
TZID:Europe/Madrid
X-LIC-LOCATION:Europe/Madrid
BEGIN:STANDARD
DTSTART:20191027T020000
TZNAME:CET
TZOFFSETFROM:+0200
TZOFFSETTO:+0100
END:STANDARD
BEGIN:DAYLIGHT
DTSTART:20200329T030000
TZNAME:CEST
TZOFFSETFROM:+0100
TZOFFSETTO:+0200
END:DAYLIGHT
END:VTIMEZONE
END:VCALENDAR
