BEGIN:VCALENDAR
VERSION:2.0
PRODID:-//Plone.org//NONSGML plone.app.event//EN
X-WR-TIMEZONE:Europe/Madrid
BEGIN:VEVENT
SUMMARY:Gala Final del Recircula Challenge
DTSTART;TZID=Europe/Madrid:20200709T160000
DTEND;TZID=Europe/Madrid:20200709T180000
DTSTAMP:20260420T002320Z
UID:955589e4a30745aa83150b2e7c4c79fe@eseiaat.upc.edu
CREATED:20200703T073415Z
LAST-MODIFIED:20200703T073424Z
LOCATION:Online
URL:https://eseiaat.upc.edu/ca/esdeveniments/gala-final-del-recircula-chal
 lenge
END:VEVENT
BEGIN:VTIMEZONE
TZID:Europe/Madrid
X-LIC-LOCATION:Europe/Madrid
BEGIN:DAYLIGHT
DTSTART:20200329T030000
TZNAME:CEST
TZOFFSETFROM:+0100
TZOFFSETTO:+0200
END:DAYLIGHT
END:VTIMEZONE
END:VCALENDAR
