BEGIN:VCALENDAR
VERSION:2.0
PRODID:-//Plone.org//NONSGML plone.app.event//EN
X-WR-TIMEZONE:Europe/Madrid
BEGIN:VEVENT
SUMMARY:Programa d'ajuts REPSOL per a startups d'energia i mobilitat
DTSTART;VALUE=DATE:20200304
DTEND;VALUE=DATE:20200305
DTSTAMP:20260420T001947Z
UID:abb2abf9115a4c9e9111e27319270f01@eseiaat.upc.edu
CREATED:20200124T115158Z
LAST-MODIFIED:20251104T112820Z
URL:https://eseiaat.upc.edu/ca/esdeveniments/2020/programa-repsol-startups
END:VEVENT
END:VCALENDAR
