BEGIN:VCALENDAR
VERSION:2.0
PRODID:-//Plone.org//NONSGML plone.app.event//EN
X-WR-TIMEZONE:Europe/Madrid
BEGIN:VEVENT
SUMMARY:De l’Escola a la professió
DTSTART;TZID=Europe/Madrid:20190522T120000
DTEND;TZID=Europe/Madrid:20190522T133000
DTSTAMP:20260420T004842Z
UID:ccc4c7947f7a408ba5e06aa7fb0b40f3@eseiaat.upc.edu
CREATED:20190517T094849Z
DESCRIPTION:Vols saber els àmbits professionals en què pot actuar un/a e
 nginyer/a d’àmbit industrial?
LAST-MODIFIED:20251016T065532Z
LOCATION:Sala de conferències del TR5
URL:https://eseiaat.upc.edu/ca/esdeveniments/2019/xerrada-escola-a-la-prof
 essio
END:VEVENT
BEGIN:VTIMEZONE
TZID:Europe/Madrid
X-LIC-LOCATION:Europe/Madrid
BEGIN:DAYLIGHT
DTSTART:20190331T030000
TZNAME:CEST
TZOFFSETFROM:+0100
TZOFFSETTO:+0200
END:DAYLIGHT
END:VTIMEZONE
END:VCALENDAR
