BEGIN:VCALENDAR
VERSION:2.0
PRODID:-//Plone.org//NONSGML plone.app.event//EN
X-WR-TIMEZONE:Europe/Madrid
BEGIN:VEVENT
SUMMARY:CANCEL·LADA -- Treballar a Flandes
DTSTART;TZID=Europe/Madrid:20191028T160000
DTEND;TZID=Europe/Madrid:20191028T170000
DTSTAMP:20260420T001947Z
UID:880650b457a8469dbdc98bcd6f42220f@eseiaat.upc.edu
CREATED:20190923T103007Z
DESCRIPTION:Coneix les oportunitats laborals que t'ofereix aquesta regió
LAST-MODIFIED:20251016T075650Z
LOCATION:Sala de Conferències TR5
URL:https://eseiaat.upc.edu/ca/esdeveniments/2019/workinflanders
END:VEVENT
BEGIN:VTIMEZONE
TZID:Europe/Madrid
X-LIC-LOCATION:Europe/Madrid
BEGIN:STANDARD
DTSTART:20191027T020000
TZNAME:CET
TZOFFSETFROM:+0200
TZOFFSETTO:+0100
END:STANDARD
END:VTIMEZONE
END:VCALENDAR
