BEGIN:VCALENDAR
VERSION:2.0
PRODID:-//Plone.org//NONSGML plone.app.event//EN
X-WR-TIMEZONE:Europe/Madrid
BEGIN:VEVENT
SUMMARY:Vols participar en el programa REXUS/BEXUS (Rocket and Balloon Exp
 eriments for University Students) de la ESA\, SNSA i DLR Space?
DTSTART;VALUE=DATE:20191014
DTEND;VALUE=DATE:20191015
DTSTAMP:20260419T183448Z
UID:b7339c47eee949f898947c58fe95b65b@eseiaat.upc.edu
CATEGORIES:aeronautica
CREATED:20190619T103550Z
LAST-MODIFIED:20251016T074217Z
URL:https://eseiaat.upc.edu/ca/esdeveniments/2019/rexus-bexus-rocket
END:VEVENT
END:VCALENDAR
