BEGIN:VCALENDAR
VERSION:2.0
PRODID:-//Plone.org//NONSGML plone.app.event//EN
X-WR-TIMEZONE:Europe/Madrid
BEGIN:VEVENT
SUMMARY:P&G Internship Program Summer 2019
DTSTART;TZID=Europe/Madrid:20190222T120000
DTEND;TZID=Europe/Madrid:20190222T130000
DTSTAMP:20260420T023522Z
UID:45ebfac47fad48a78cca3a40e099b04d@eseiaat.upc.edu
CREATED:20190211T143926Z
DESCRIPTION:Sessió informativa sobre les pràctiques internacionals remun
 erades a l'empresa Procter&Gamble
LAST-MODIFIED:20250515T061504Z
LOCATION:ESEIAAT\, Sala Conferències\, Edifici tr5
URL:https://eseiaat.upc.edu/ca/esdeveniments/2019/p-g-internship-program-s
 ummer-2019
END:VEVENT
BEGIN:VTIMEZONE
TZID:Europe/Madrid
X-LIC-LOCATION:Europe/Madrid
BEGIN:STANDARD
DTSTART:20181028T020000
TZNAME:CET
TZOFFSETFROM:+0200
TZOFFSETTO:+0100
END:STANDARD
END:VTIMEZONE
END:VCALENDAR
