BEGIN:VCALENDAR
VERSION:2.0
PRODID:-//Plone.org//NONSGML plone.app.event//EN
X-WR-TIMEZONE:Europe/Madrid
BEGIN:VEVENT
SUMMARY:Nova convocatòria  Programa KAUTIC
DTSTART;VALUE=DATE:20190429
DTEND;VALUE=DATE:20190430
DTSTAMP:20260424T193901Z
UID:edfe299e725e41968c2d86f4587fd4fc@eseiaat.upc.edu
CREATED:20190412T105125Z
DESCRIPTION:Programa d’incubació per a projectes innovadors on les TIC 
 i la tecnologia són claus pel model de negoci. Les inscripcions estan obe
 rtes fins el 29 d’abril.
LAST-MODIFIED:20250515T061645Z
URL:https://eseiaat.upc.edu/ca/esdeveniments/2019/nova-convocatoria-progra
 ma-kautic
END:VEVENT
END:VCALENDAR
