BEGIN:VCALENDAR
VERSION:2.0
PRODID:-//Plone.org//NONSGML plone.app.event//EN
X-WR-TIMEZONE:Europe/Madrid
BEGIN:VEVENT
SUMMARY:Hackathon Mobility 2019
DTSTART;VALUE=DATE:20190318
DTEND;VALUE=DATE:20190324
DTSTAMP:20260420T001945Z
UID:345759679c384f33bad70a5e90a56286@eseiaat.upc.edu
CREATED:20190314T150706Z
DESCRIPTION:Two challenges have been detected\, and we are looking to find
  some fresh ideas and innovative solutions. We believe that talented and p
 assionate people like you are needed to create the future of mobility! The
  deadline is on the 18th of March.
LAST-MODIFIED:20250515T061514Z
URL:https://eseiaat.upc.edu/ca/esdeveniments/2019/hackathon-mobility-2019
END:VEVENT
END:VCALENDAR
