BEGIN:VCALENDAR
VERSION:2.0
PRODID:-//Plone.org//NONSGML plone.app.event//EN
X-WR-TIMEZONE:Europe/Madrid
BEGIN:VEVENT
SUMMARY:Curs per al PDI: Coaching per a professorat universitari que impar
 teix docència en anglès
DTSTART;VALUE=DATE:20190321
DTEND;VALUE=DATE:20190322
DTSTAMP:20260419T152856Z
UID:40dc098c89c2436bbec8b7d1d730d857@eseiaat.upc.edu
CATEGORIES:cursos,PDI
CONTACT:Institut de Ciències de l'Educació\, https://gcice.upc.edu/fitxa
 _cursos.asp?id=54309
CREATED:20190123T134135Z
LAST-MODIFIED:20250128T112354Z
LOCATION:Edifici TR1\, aula IKEA\, planta 0
URL:https://eseiaat.upc.edu/ca/esdeveniments/2019/curs-coaching-professora
 t-docencia-angles
END:VEVENT
END:VCALENDAR
