BEGIN:VCALENDAR
VERSION:2.0
PRODID:-//Plone.org//NONSGML plone.app.event//EN
X-WR-TIMEZONE:Europe/Madrid
BEGIN:VEVENT
SUMMARY:Conferència / Curs
DTSTART;TZID=Europe/Madrid:20190403T120000
DTEND;TZID=Europe/Madrid:20190403T133000
DTSTAMP:20260420T022452Z
UID:5251b04116d742cc8a2223a47907ae8c@eseiaat.upc.edu
CATEGORIES:cursos,formació,textil
CREATED:20190326T152926Z
LAST-MODIFIED:20250515T061517Z
LOCATION:Sala Conferències ESEIAAT\, Edifici TR1
URL:https://eseiaat.upc.edu/ca/esdeveniments/2019/aeqct
END:VEVENT
BEGIN:VTIMEZONE
TZID:Europe/Madrid
X-LIC-LOCATION:Europe/Madrid
BEGIN:DAYLIGHT
DTSTART:20190331T030000
TZNAME:CEST
TZOFFSETFROM:+0100
TZOFFSETTO:+0200
END:DAYLIGHT
END:VTIMEZONE
END:VCALENDAR
