BEGIN:VCALENDAR
VERSION:2.0
PRODID:-//Plone.org//NONSGML plone.app.event//EN
X-WR-TIMEZONE:Europe/Madrid
BEGIN:VEVENT
SUMMARY:Xerrada informativa d'UPC ecoRacing
DTSTART;TZID=Europe/Madrid:20180509T121500
DTEND;TZID=Europe/Madrid:20180509T131500
DTSTAMP:20260420T002215Z
UID:906181e699b94b65a852aa8e3346e8a7@eseiaat.upc.edu
CREATED:20180504T100819Z
LAST-MODIFIED:20180504T100824Z
LOCATION:Sala d'Actes del TR5
URL:https://eseiaat.upc.edu/ca/esdeveniments/2018/xerrada-informativa-upc-
 ecoracing
END:VEVENT
BEGIN:VTIMEZONE
TZID:Europe/Madrid
X-LIC-LOCATION:Europe/Madrid
BEGIN:DAYLIGHT
DTSTART:20180325T030000
TZNAME:CEST
TZOFFSETFROM:+0100
TZOFFSETTO:+0200
END:DAYLIGHT
END:VTIMEZONE
END:VCALENDAR
