BEGIN:VCALENDAR
VERSION:2.0
PRODID:-//Plone.org//NONSGML plone.app.event//EN
X-WR-TIMEZONE:Europe/Madrid
BEGIN:VEVENT
SUMMARY:Els nostres estudiants amb els seus projectes reals al Saló de l
 ’ensenyament 2018
DTSTART;VALUE=DATE:20180314
DTEND;VALUE=DATE:20180319
DTSTAMP:20260419T211521Z
UID:61bdb9b0683d442a84bf1d6d8ebd0133@eseiaat.upc.edu
CREATED:20180313T132931Z
LAST-MODIFIED:20180314T122504Z
URL:https://eseiaat.upc.edu/ca/esdeveniments/2018/salo-ensenyament-2018
END:VEVENT
END:VCALENDAR
