BEGIN:VCALENDAR
VERSION:2.0
PRODID:-//Plone.org//NONSGML plone.app.event//EN
X-WR-TIMEZONE:Europe/Madrid
BEGIN:VEVENT
SUMMARY:Premis WONNOW per premiar l'excel·lència femenina en carreres un
 iversitàries tècniques
DTSTART;VALUE=DATE:20180504
DTEND;VALUE=DATE:20180701
DTSTAMP:20260420T090547Z
UID:fdbe1bfac7094949925bd5275f92a87c@eseiaat.upc.edu
CATEGORIES:beques i ajuts,premis
CREATED:20180504T093828Z
DESCRIPTION:Aquests guardons s'adrecen a alumnes matriculades en l'últim 
 curs de les carreres STEM -Ciències\, Tecnologia\, Enginyeria i Matemàti
 ques- de totes les universitats espanyoles.
LAST-MODIFIED:20180504T093924Z
URL:https://eseiaat.upc.edu/ca/esdeveniments/2018/premis-wonnow
END:VEVENT
END:VCALENDAR
