BEGIN:VCALENDAR
VERSION:2.0
PRODID:-//Plone.org//NONSGML plone.app.event//EN
X-WR-TIMEZONE:Europe/Madrid
BEGIN:VEVENT
SUMMARY:Segona Edició dels Premis FUTURED al Millor Treball Fi de grau o 
 màster
DTSTART;VALUE=DATE:20180308
DTEND;VALUE=DATE:20180421
DTSTAMP:20260420T102539Z
UID:e04a6958219f4d6898a0ad766e54a729@eseiaat.upc.edu
CREATED:20180308T121151Z
DESCRIPTION:La data límit de presentació de treballs és el divendres\, 
  20 d'abril de 2018 fins a les 18: 00h.
LAST-MODIFIED:20180309T084135Z
URL:https://eseiaat.upc.edu/ca/esdeveniments/2018/premis-futured
END:VEVENT
END:VCALENDAR
