BEGIN:VCALENDAR
VERSION:2.0
PRODID:-//Plone.org//NONSGML plone.app.event//EN
X-WR-TIMEZONE:Europe/Madrid
BEGIN:VEVENT
SUMMARY:Premi Duran Farell d'Investigació Tecnològica. Convocatòria 201
 8
DTSTART;VALUE=DATE:20180131
DTEND;VALUE=DATE:20180512
DTSTAMP:20260419T225825Z
UID:b66f3289821d43c097b0b82fc2843a94@eseiaat.upc.edu
CREATED:20180131T131507Z
DESCRIPTION:Presentació de candidatures fins l'11 de maig de 2018
LAST-MODIFIED:20180323T070136Z
URL:https://eseiaat.upc.edu/ca/esdeveniments/2018/premi-duran-farell-2018
END:VEVENT
END:VCALENDAR
