BEGIN:VCALENDAR
VERSION:2.0
PRODID:-//Plone.org//NONSGML plone.app.event//EN
X-WR-TIMEZONE:Europe/Madrid
BEGIN:VEVENT
SUMMARY:Convocatòria per la presentació de projectes per iGenium'18: Eng
 inyeria i Mobilitat
DTSTART;VALUE=DATE:20180411
DTEND;VALUE=DATE:20180629
DTSTAMP:20260420T212456Z
UID:83e9dc13e2e549a0ab361b27327b3234@eseiaat.upc.edu
CREATED:20180411T132950Z
LAST-MODIFIED:20180411T133243Z
URL:https://eseiaat.upc.edu/ca/esdeveniments/2018/igenium18
END:VEVENT
END:VCALENDAR
