BEGIN:VCALENDAR
VERSION:2.0
PRODID:-//Plone.org//NONSGML plone.app.event//EN
X-WR-TIMEZONE:Europe/Madrid
BEGIN:VEVENT
SUMMARY:L'IBEC busca candidats per sol·licitar beques pel IBEC Master Pro
 gramme fellowships 2018
DTSTART;VALUE=DATE:20180628
DTEND;VALUE=DATE:20181012
DTSTAMP:20260420T102336Z
UID:016904a9ce094cd2bf0f943859b0074c@eseiaat.upc.edu
CREATED:20180628T113229Z
DESCRIPTION:Closing date: 11th October 2018
LAST-MODIFIED:20240517T092545Z
URL:https://eseiaat.upc.edu/ca/esdeveniments/2018/ibec-master-programme-fe
 llowships-2018
END:VEVENT
END:VCALENDAR
