BEGIN:VCALENDAR
VERSION:2.0
PRODID:-//Plone.org//NONSGML plone.app.event//EN
X-WR-TIMEZONE:Europe/Madrid
BEGIN:VEVENT
SUMMARY:Exposició dels 100 anys de L'Electra Caldense
DTSTART;VALUE=DATE:20180312
DTEND;VALUE=DATE:20180411
DTSTAMP:20260420T092800Z
UID:f0d67fa58e1b4b5c8d2c3a78a11db289@eseiaat.upc.edu
CREATED:20180219T122927Z
LAST-MODIFIED:20180223T103217Z
LOCATION:Vestíbul de l'ESEIAAT\, Edifici TR5
URL:https://eseiaat.upc.edu/ca/esdeveniments/2018/exposicio-electra-calden
 se
END:VEVENT
END:VCALENDAR
