BEGIN:VCALENDAR
VERSION:2.0
PRODID:-//Plone.org//NONSGML plone.app.event//EN
X-WR-TIMEZONE:Europe/Madrid
BEGIN:VEVENT
SUMMARY:Participa en el blog " Escriu el teu guió"\, i explica com et sen
 ts i actues davant la discapacitat
DTSTART;VALUE=DATE:20180405
DTEND;VALUE=DATE:20180801
DTSTAMP:20260419T152441Z
UID:702f41b4bd584a3885d3e4288f10f00b@eseiaat.upc.edu
CATEGORIES:inclusió
CREATED:20180405T120005Z
LAST-MODIFIED:20180405T120142Z
URL:https://eseiaat.upc.edu/ca/esdeveniments/2018/escriu-el-teu-guio
END:VEVENT
END:VCALENDAR
