BEGIN:VCALENDAR
VERSION:2.0
PRODID:-//Plone.org//NONSGML plone.app.event//EN
X-WR-TIMEZONE:Europe/Madrid
BEGIN:VEVENT
SUMMARY:Curs “Digital Health: Aprèn a dissenyar APPs”
DTSTART;VALUE=DATE:20180920
DTEND;VALUE=DATE:20180921
DTSTAMP:20260420T192830Z
UID:f9fefa18011841828f307f01816be484@eseiaat.upc.edu
CREATED:20180906T150243Z
DESCRIPTION:Inscripcions fins el 20 de setembre
LAST-MODIFIED:20240517T092549Z
LOCATION:Euncet Business School
URL:https://eseiaat.upc.edu/ca/esdeveniments/2018/digital-health
END:VEVENT
END:VCALENDAR
