BEGIN:VCALENDAR
VERSION:2.0
PRODID:-//Plone.org//NONSGML plone.app.event//EN
X-WR-TIMEZONE:Europe/Madrid
BEGIN:VEVENT
SUMMARY:Concurs d’idees per valoritzar les armilles salvavides que hi ha
 n a la illa de Lesbos (Grècia)
DTSTART;VALUE=DATE:20180411
DTEND;VALUE=DATE:20180515
DTSTAMP:20260420T193108Z
UID:76edcad20ddd47d6b4b602f7011b8b28@eseiaat.upc.edu
CATEGORIES:Premis i concursos
CREATED:20180411T134747Z
DESCRIPTION:El concurs està destinat a estudiantat d'enginyeries i dissen
 y industrial
LAST-MODIFIED:20180413T071649Z
URL:https://eseiaat.upc.edu/ca/esdeveniments/2018/concurs-valoritzar-armil
 les
END:VEVENT
END:VCALENDAR
