BEGIN:VCALENDAR
VERSION:2.0
PRODID:-//Plone.org//NONSGML plone.app.event//EN
X-WR-TIMEZONE:Europe/Madrid
BEGIN:VEVENT
SUMMARY:Concurs de cartells de la Setmana de la Ciència
DTSTART;VALUE=DATE:20180720
DTEND;VALUE=DATE:20180913
DTSTAMP:20260420T063308Z
UID:0c8c131fa9194185a053d102b68655aa@eseiaat.upc.edu
CREATED:20180720T053758Z
LAST-MODIFIED:20240517T092547Z
URL:https://eseiaat.upc.edu/ca/esdeveniments/2018/concurs-cartells-SC18
END:VEVENT
END:VCALENDAR
