BEGIN:VCALENDAR
VERSION:2.0
PRODID:-//Plone.org//NONSGML plone.app.event//EN
X-WR-TIMEZONE:Europe/Madrid
BEGIN:VEVENT
SUMMARY:El Banc Santander ha creat un nou programa d'ajuts a la mobilitat 
 Erasmus per a estudiants
DTSTART;VALUE=DATE:20181001
DTEND;VALUE=DATE:20190301
DTSTAMP:20260424T162824Z
UID:37d9c4051f15454fb1e3758dba7cadd7@eseiaat.upc.edu
CATEGORIES:beques i ajuts,erasmus
CREATED:20181029T130635Z
DESCRIPTION:Pots sol·licitar una d'aquestes beques realitzant la inscripc
 ió abans del 28 de febrer de 2019
LAST-MODIFIED:20250128T112000Z
URL:https://eseiaat.upc.edu/ca/esdeveniments/2018/beques-erasmus-santander
END:VEVENT
END:VCALENDAR
