BEGIN:VCALENDAR
VERSION:2.0
PRODID:-//Plone.org//NONSGML plone.app.event//EN
X-WR-TIMEZONE:Europe/Madrid
BEGIN:VEVENT
SUMMARY:Acte de Graduació 2018
DTSTART;TZID=Europe/Madrid:20181123T180000
DTEND;TZID=Europe/Madrid:20181123T200000
DTSTAMP:20260420T150920Z
UID:d94c58e996dd4ff4b3eb9dfdffb7fdf9@eseiaat.upc.edu
CONTACT:direccio.eseiaat@upc.edu\, https://eseiaat.upc.edu/ca/acte-graduac
 io/
CREATED:20181113T150751Z
LAST-MODIFIED:20250128T112006Z
LOCATION:Recinte Firal de Terrassa
URL:https://eseiaat.upc.edu/ca/esdeveniments/2018/acte-de-graduacio-2018
END:VEVENT
BEGIN:VTIMEZONE
TZID:Europe/Madrid
X-LIC-LOCATION:Europe/Madrid
BEGIN:STANDARD
DTSTART:20181028T020000
TZNAME:CET
TZOFFSETFROM:+0200
TZOFFSETTO:+0100
END:STANDARD
END:VTIMEZONE
END:VCALENDAR
