BEGIN:VCALENDAR
VERSION:2.0
PRODID:-//Plone.org//NONSGML plone.app.event//EN
X-WR-TIMEZONE:Europe/Madrid
BEGIN:VEVENT
SUMMARY:NASA’s Jet Propulsion Laboratory:Dare Mighty Things
DTSTART;TZID=Europe/Madrid:20180313T160000
DTEND;TZID=Europe/Madrid:20180313T180000
DTSTAMP:20260420T001945Z
UID:5081f499468b43cda21dfba50cb4b410@eseiaat.upc.edu
CREATED:20180309T105543Z
DESCRIPTION:Vídeo conferència amb Marcel Llopis\, del Jet Propulsion Lab
 oratory (NASA)
LAST-MODIFIED:20180309T110411Z
LOCATION:sala de conferències del TR5
URL:https://eseiaat.upc.edu/ca/esdeveniments/2018/NASA-JPL
END:VEVENT
BEGIN:VTIMEZONE
TZID:Europe/Madrid
X-LIC-LOCATION:Europe/Madrid
BEGIN:STANDARD
DTSTART:20171029T020000
TZNAME:CET
TZOFFSETFROM:+0200
TZOFFSETTO:+0100
END:STANDARD
END:VTIMEZONE
END:VCALENDAR
