BEGIN:VCALENDAR
VERSION:2.0
PRODID:-//Plone.org//NONSGML plone.app.event//EN
X-WR-TIMEZONE:Europe/Madrid
BEGIN:VEVENT
SUMMARY:Inscriu-te a la Week of Engineering Competition
DTSTART;VALUE=DATE:20171016
DTEND;VALUE=DATE:20171113
DTSTAMP:20260424T171743Z
UID:61ea612870864eaa8b911fbbf2130277@eseiaat.upc.edu
CREATED:20171031T072114Z
LAST-MODIFIED:20171031T072706Z
URL:https://eseiaat.upc.edu/ca/esdeveniments/2017/wec
END:VEVENT
END:VCALENDAR
