BEGIN:VCALENDAR
VERSION:2.0
PRODID:-//Plone.org//NONSGML plone.app.event//EN
X-WR-TIMEZONE:Europe/Madrid
BEGIN:VEVENT
SUMMARY:Actes de reclutament de talent per Rolls-Royce a l’UPC.
DTSTART;VALUE=DATE:20170928
DTEND;VALUE=DATE:20170929
DTSTAMP:20260424T232636Z
UID:ed60863842214d24a35967e47d2ece74@eseiaat.upc.edu
CREATED:20170919T130008Z
LAST-MODIFIED:20170919T130013Z
LOCATION:ESEIAAT\, Sala d'actes\, Edifici TR5
URL:https://eseiaat.upc.edu/ca/esdeveniments/2017/rolls-royce
END:VEVENT
END:VCALENDAR
