BEGIN:VCALENDAR
VERSION:2.0
PRODID:-//Plone.org//NONSGML plone.app.event//EN
X-WR-TIMEZONE:Europe/Madrid
BEGIN:VEVENT
SUMMARY:Premis Innova\, adreçats a investigadors/es i  emprenedors/es
DTSTART;TZID=Europe/Madrid:20170706T160000
DTEND;TZID=Europe/Madrid:20170911T190000
DTSTAMP:20260424T141134Z
UID:b196cf7954fc427980bd09de444124c2@eseiaat.upc.edu
CREATED:20170706T143919Z
DESCRIPTION:El termini per participar finalitza l’11 de setembre
LAST-MODIFIED:20170706T144014Z
URL:https://eseiaat.upc.edu/ca/esdeveniments/2017/premis-innova
END:VEVENT
BEGIN:VTIMEZONE
TZID:Europe/Madrid
X-LIC-LOCATION:Europe/Madrid
BEGIN:DAYLIGHT
DTSTART:20170326T030000
TZNAME:CEST
TZOFFSETFROM:+0100
TZOFFSETTO:+0200
END:DAYLIGHT
END:VTIMEZONE
END:VCALENDAR
