BEGIN:VCALENDAR
VERSION:2.0
PRODID:-//Plone.org//NONSGML plone.app.event//EN
X-WR-TIMEZONE:Europe/Madrid
BEGIN:VEVENT
SUMMARY:Green Factor Design Contest
DTSTART;VALUE=DATE:20170908
DTEND;VALUE=DATE:20171002
DTSTAMP:20260420T062652Z
UID:3d2a48be9ad64e36b44577cdf3fe50f1@eseiaat.upc.edu
CREATED:20170908T071306Z
DESCRIPTION:New deadline: 31.10.2017
LAST-MODIFIED:20170908T073435Z
URL:https://eseiaat.upc.edu/ca/esdeveniments/2017/green-factor-design-cont
 est
END:VEVENT
END:VCALENDAR
