BEGIN:VCALENDAR
VERSION:2.0
PRODID:-//Plone.org//NONSGML plone.app.event//EN
X-WR-TIMEZONE:Europe/Madrid
BEGIN:VEVENT
SUMMARY:European Satellite Navigation Competition ESNC
DTSTART;TZID=Europe/Madrid:20170501T000000
DTEND;TZID=Europe/Madrid:20170630T235900
DTSTAMP:20260424T144613Z
UID:90b3e79eccfb47f2b639c0e1a94a447a@eseiaat.upc.edu
CREATED:20170504T115249Z
DESCRIPTION:És un concurs d'idees internacional que cada any reconeix les
  millors idees en el camp de la navegació per satèl·lit.
LAST-MODIFIED:20170526T084538Z
URL:https://eseiaat.upc.edu/ca/esdeveniments/2017/esnc
END:VEVENT
BEGIN:VTIMEZONE
TZID:Europe/Madrid
X-LIC-LOCATION:Europe/Madrid
BEGIN:DAYLIGHT
DTSTART:20170326T030000
TZNAME:CEST
TZOFFSETFROM:+0100
TZOFFSETTO:+0200
END:DAYLIGHT
END:VTIMEZONE
END:VCALENDAR
