BEGIN:VCALENDAR
VERSION:2.0
PRODID:-//Plone.org//NONSGML plone.app.event//EN
X-WR-TIMEZONE:Europe/Madrid
BEGIN:VEVENT
SUMMARY:Presentació de sol·licituds al programa "Emprende tus Prácticas
 "
DTSTART;TZID=Europe/Madrid:20170529T150000
DTEND;TZID=Europe/Madrid:20170630T230000
DTSTAMP:20260419T183449Z
UID:a2c19102aaa345a0b4ba8f694dafc8f4@eseiaat.upc.edu
CREATED:20170530T140007Z
LAST-MODIFIED:20170530T140652Z
URL:https://eseiaat.upc.edu/ca/esdeveniments/2017/emprende-tus-practicas
END:VEVENT
BEGIN:VTIMEZONE
TZID:Europe/Madrid
X-LIC-LOCATION:Europe/Madrid
BEGIN:DAYLIGHT
DTSTART:20170326T030000
TZNAME:CEST
TZOFFSETFROM:+0100
TZOFFSETTO:+0200
END:DAYLIGHT
END:VTIMEZONE
END:VCALENDAR
