BEGIN:VCALENDAR
VERSION:2.0
PRODID:-//Plone.org//NONSGML plone.app.event//EN
X-WR-TIMEZONE:Europe/Madrid
BEGIN:VEVENT
SUMMARY:Vols formar part d'UPC ecoRacing?
DTSTART;VALUE=DATE:20170727
DTEND;VALUE=DATE:20170823
DTSTAMP:20260424T134932Z
UID:51bc47def246423eb6843c02d7d82e69@eseiaat.upc.edu
CREATED:20170728T103536Z
LAST-MODIFIED:20170728T103724Z
URL:https://eseiaat.upc.edu/ca/esdeveniments/2017/ecoracing
END:VEVENT
END:VCALENDAR
