BEGIN:VCALENDAR
VERSION:2.0
PRODID:-//Plone.org//NONSGML plone.app.event//EN
X-WR-TIMEZONE:Europe/Madrid
BEGIN:VEVENT
SUMMARY:Meetup: Connected Car
DTSTART;TZID=Europe/Madrid:20170929T160000
DTEND;TZID=Europe/Madrid:20170929T190000
DTSTAMP:20260419T175207Z
UID:404202ec0ac34f84bc5eda8f7e2dce26@eseiaat.upc.edu
CREATED:20170922T105858Z
LAST-MODIFIED:20170922T105903Z
URL:https://eseiaat.upc.edu/ca/esdeveniments/2017/connected-car
END:VEVENT
BEGIN:VTIMEZONE
TZID:Europe/Madrid
X-LIC-LOCATION:Europe/Madrid
BEGIN:DAYLIGHT
DTSTART:20170326T030000
TZNAME:CEST
TZOFFSETFROM:+0100
TZOFFSETTO:+0200
END:DAYLIGHT
END:VTIMEZONE
END:VCALENDAR
