BEGIN:VCALENDAR
VERSION:2.0
PRODID:-//Plone.org//NONSGML plone.app.event//EN
X-WR-TIMEZONE:Europe/Madrid
BEGIN:VEVENT
SUMMARY:Període obert per sol·licitud de beques de recerca per a estudia
 nts universitaris
DTSTART;VALUE=DATE:20170923
DTEND;VALUE=DATE:20171008
DTSTAMP:20260420T092800Z
UID:b672ad14db014788b92d6f6d71d11907@eseiaat.upc.edu
CREATED:20170928T134211Z
LAST-MODIFIED:20170928T134216Z
URL:https://eseiaat.upc.edu/ca/esdeveniments/2017/beques-recerca-AjTSA
END:VEVENT
END:VCALENDAR
