BEGIN:VCALENDAR
VERSION:2.0
PRODID:-//Plone.org//NONSGML plone.app.event//EN
X-WR-TIMEZONE:Europe/Madrid
BEGIN:VEVENT
SUMMARY:Beques “Dream NEW”  per estudis a Nova Zelanda
DTSTART;TZID=Europe/Madrid:20170620T150000
DTEND;TZID=Europe/Madrid:20170901T160000
DTSTAMP:20260424T181507Z
UID:bd0e569c9ae94855922c45697a124db3@eseiaat.upc.edu
CREATED:20170621T135158Z
LAST-MODIFIED:20170628T131344Z
URL:https://eseiaat.upc.edu/ca/esdeveniments/2017/beques-dream-new
END:VEVENT
BEGIN:VTIMEZONE
TZID:Europe/Madrid
X-LIC-LOCATION:Europe/Madrid
BEGIN:DAYLIGHT
DTSTART:20170326T030000
TZNAME:CEST
TZOFFSETFROM:+0100
TZOFFSETTO:+0200
END:DAYLIGHT
END:VTIMEZONE
END:VCALENDAR
