BEGIN:VCALENDAR
VERSION:2.0
PRODID:-//Plone.org//NONSGML plone.app.event//EN
X-WR-TIMEZONE:Europe/Madrid
BEGIN:VEVENT
SUMMARY:Convocatòria de beques per a coordinadors del SALSA'M
DTSTART;TZID=Europe/Madrid:20170525T120000
DTEND;TZID=Europe/Madrid:20170610T230000
DTSTAMP:20260420T002415Z
UID:e10cc1c167454a5eb81a23ab2395cc3b@eseiaat.upc.edu
CREATED:20170525T173743Z
DESCRIPTION:Prorrogat fins al 10 de juny de 2017.
LAST-MODIFIED:20170608T154013Z
URL:https://eseiaat.upc.edu/ca/esdeveniments/2017/beques-coordinadors-sals
 am
END:VEVENT
BEGIN:VTIMEZONE
TZID:Europe/Madrid
X-LIC-LOCATION:Europe/Madrid
BEGIN:DAYLIGHT
DTSTART:20170326T030000
TZNAME:CEST
TZOFFSETFROM:+0100
TZOFFSETTO:+0200
END:DAYLIGHT
END:VTIMEZONE
END:VCALENDAR
