BEGIN:VCALENDAR
VERSION:2.0
PRODID:-//Plone.org//NONSGML plone.app.event//EN
X-WR-TIMEZONE:Europe/Madrid
BEGIN:VEVENT
SUMMARY:Oferta de BECA de Doctorat al Centre de Recerca MCIA
DTSTART;TZID=Europe/Madrid:20170704T160000
DTEND;TZID=Europe/Madrid:20171004T170000
DTSTAMP:20260419T175209Z
UID:a856f5e47c574a8aa389501dcbcc807b@eseiaat.upc.edu
CREATED:20170704T143346Z
DESCRIPTION:Beca de Recerca de 3 anys per la realització d'una Tesis Doct
 oral en l'àrea del Disseny y Optimització de Convertidors de Potència F
 ault-Tolerant basats en SiC per aplicacions de vehicle elèctric.
LAST-MODIFIED:20170704T143528Z
URL:https://eseiaat.upc.edu/ca/esdeveniments/2017/beca-MCIA
END:VEVENT
BEGIN:VTIMEZONE
TZID:Europe/Madrid
X-LIC-LOCATION:Europe/Madrid
BEGIN:DAYLIGHT
DTSTART:20170326T030000
TZNAME:CEST
TZOFFSETFROM:+0100
TZOFFSETTO:+0200
END:DAYLIGHT
END:VTIMEZONE
END:VCALENDAR
