BEGIN:VCALENDAR
VERSION:2.0
PRODID:-//Plone.org//NONSGML plone.app.event//EN
X-WR-TIMEZONE:Europe/Madrid
BEGIN:VEVENT
SUMMARY:Ja s'ha obert la convocatòria de beques "MOBINT" 2017 de l'Agaur
DTSTART;VALUE=DATE:20170721
DTEND;VALUE=DATE:20170916
DTSTAMP:20260424T145934Z
UID:3cc77a8af3db43a5ac1ab4661d6f8710@eseiaat.upc.edu
CREATED:20170724T122028Z
DESCRIPTION:Ajuts a la mobilitat internacional de l'estudiantat amb recone
 ixement acadèmic de les universitats catalanes per al curs acadèmic 2017
 -2018.
LAST-MODIFIED:20170727T113234Z
URL:https://eseiaat.upc.edu/ca/esdeveniments/2017/MOBINT2017
END:VEVENT
END:VCALENDAR
