BEGIN:VCALENDAR
VERSION:2.0
PRODID:-//Plone.org//NONSGML plone.app.event//EN
X-WR-TIMEZONE:Europe/Madrid
BEGIN:VEVENT
SUMMARY:Speed Networking 2016
DTSTART;TZID=Europe/Madrid:20160518T110000
DTEND;TZID=Europe/Madrid:20160518T200000
DTSTAMP:20260424T135143Z
UID:3f0eaa08b1b4400a9b1c88e092f63f63@genwebv4.upc.edu
CONTACT:http://www.eet.upc.edu/mobilitat-empresa/Speed_Networking_2016
CREATED:20160126T115216Z
LAST-MODIFIED:20160222T101341Z
URL:https://eseiaat.upc.edu/ca/esdeveniments/2016/speed-networking-2016
END:VEVENT
BEGIN:VTIMEZONE
TZID:Europe/Madrid
X-LIC-LOCATION:Europe/Madrid
BEGIN:DAYLIGHT
DTSTART:20160327T030000
TZNAME:CEST
TZOFFSETFROM:+0100
TZOFFSETTO:+0200
END:DAYLIGHT
END:VTIMEZONE
END:VCALENDAR
