BEGIN:VCALENDAR
VERSION:2.0
PRODID:-//Plone.org//NONSGML plone.app.event//EN
X-WR-TIMEZONE:Europe/Madrid
BEGIN:VEVENT
SUMMARY:Hackaton Hack&Health
DTSTART;TZID=Europe/Madrid:20161125T130000
DTEND;TZID=Europe/Madrid:20161126T140000
DTSTAMP:20260425T032651Z
UID:38258525757c4ef394a4efcb1eeea35e@eseiaat.upc.edu
CREATED:20161103T125313Z
LAST-MODIFIED:20161103T125726Z
URL:https://eseiaat.upc.edu/ca/esdeveniments/2016/hackaton-hack-health-1
END:VEVENT
BEGIN:VTIMEZONE
TZID:Europe/Madrid
X-LIC-LOCATION:Europe/Madrid
BEGIN:STANDARD
DTSTART:20161030T020000
TZNAME:CET
TZOFFSETFROM:+0200
TZOFFSETTO:+0100
END:STANDARD
END:VTIMEZONE
END:VCALENDAR
