BEGIN:VCALENDAR
VERSION:2.0
PRODID:-//Plone.org//NONSGML plone.app.event//EN
X-WR-TIMEZONE:Europe/Madrid
BEGIN:VEVENT
SUMMARY:Asada Mesh Screen Printing Workshop
DTSTART;TZID=Europe/Madrid:20161003T090000
DTEND;TZID=Europe/Madrid:20161004T140000
DTSTAMP:20260420T023349Z
UID:4958928fd8c94ebb974ce0c8ea24a288@eseiaat.upc.edu
CREATED:20160927T104035Z
LAST-MODIFIED:20160927T110507Z
URL:https://eseiaat.upc.edu/ca/esdeveniments/2016/asada-mesh-screen-printi
 ng-workshop
END:VEVENT
BEGIN:VTIMEZONE
TZID:Europe/Madrid
X-LIC-LOCATION:Europe/Madrid
BEGIN:DAYLIGHT
DTSTART:20160327T030000
TZNAME:CEST
TZOFFSETFROM:+0100
TZOFFSETTO:+0200
END:DAYLIGHT
END:VTIMEZONE
END:VCALENDAR
